Workbook

Sheet Como usar
A1: Planilha de Controle de Ponto
A3: 1. Na aba Config, preencha o funcionário, o 1º dia do mês, a jornada diária e se trabalha aos sábados.
A4: 2. Na aba Ponto, digite os horários nas células AMARELAS (formato 08:00). Datas e dias da semana saem sozinhos.
A5: 3. Use a coluna Ocorrência para Falta, Atestado, Feriado ou Folga — a jornada prevista do dia se ajusta.
A6: 4. Horas trabalhadas, extras, atrasos e o saldo do dia são calculados em horas decimais (8,50 h = 8h30).
A7: 5. A aba Resumo mostra o mês e o BANCO DE HORAS acumulado (saldo anterior + saldo do mês).
A8: 6. Para vários funcionários: copie o arquivo (um por pessoa) ou duplique as abas Config/Ponto/Resumo.
A10: Saída depois da meia-noite é aceita (ex.: entrada 22:00, saída 06:00).
A11: Ferramenta de apoio: confira regras de jornada, intervalo e banco de horas na CLT e na convenção da sua categoria.

Sheet Config
A1: Configuração
A3: Funcionário | B3: Nome do funcionário
A4: Empresa | B4: Minha Empresa
A5: Mês (1º dia) | B5: 46296
A6: Jornada diária | B6: 0.33333333
A7: Trabalha aos sábados? | B7: Não
A8: Jornada de sábado | B8: 0.16666667
A9: Saldo anterior do banco de horas (h) | B9: 0 | C9: em horas decimais; negativo = deve horas

Sheet Ponto
A1: ="Ponto — "&Config!B3&" — "&TEXT(Config!B5,"mm/yyyy")
A3: Data | B3: Dia | C3: Entrada | D3: Saída almoço | E3: Retorno | F3: Saída | G3: Ocorrência | H3: Trabalhadas | I3: Prevista | J3: Saldo do dia | K3: Hora extra | L3: Atraso/falta
A4: =IF(MONTH(Config!$B$5+0)=MONTH(Config!$B$5),Config!$B$5+0,"") | B4: =IF(A4="","",CHOOSE(WEEKDAY(A4),"Dom","Seg","Ter","Qua","Qui","Sex","Sáb")) | C4: 0.33333333 | D4: 0.5 | E4: 0.54166667 | F4: 0.77083333 | H4: =IF(OR(A4="",C4="",F4=""),0,((F4-C4+IF(F4<C4,1,0))-IF(OR(D4="",E4=""),0,E4-D4))*24) | I4: =IF(A4="",0,IF(OR(G4="Feriado",G4="Folga",G4="Atestado"),0,IF(G4="Falta",Config!$B$6*24,IF(OR(C4="",F4=""),0,IF(WEEKDAY(A4)=1,0,IF(WEEKDAY(A4)=7,IF(Config!$B$7="Sim",Config!$B$8*24,0),Config!$B$6*24)))))) | J4: =H4-I4 | K4: =MAX(0,J4) | L4: =MAX(0,-J4)
A5: =IF(MONTH(Config!$B$5+1)=MONTH(Config!$B$5),Config!$B$5+1,"") | B5: =IF(A5="","",CHOOSE(WEEKDAY(A5),"Dom","Seg","Ter","Qua","Qui","Sex","Sáb")) | C5: 0.34722222 | D5: 0.5 | E5: 0.54166667 | F5: 0.70833333 | H5: =IF(OR(A5="",C5="",F5=""),0,((F5-C5+IF(F5<C5,1,0))-IF(OR(D5="",E5=""),0,E5-D5))*24) | I5: =IF(A5="",0,IF(OR(G5="Feriado",G5="Folga",G5="Atestado"),0,IF(G5="Falta",Config!$B$6*24,IF(OR(C5="",F5=""),0,IF(WEEKDAY(A5)=1,0,IF(WEEKDAY(A5)=7,IF(Config!$B$7="Sim",Config!$B$8*24,0),Config!$B$6*24)))))) | J5: =H5-I5 | K5: =MAX(0,J5) | L5: =MAX(0,-J5)
A6: =IF(MONTH(Config!$B$5+2)=MONTH(Config!$B$5),Config!$B$5+2,"") | B6: =IF(A6="","",CHOOSE(WEEKDAY(A6),"Dom","Seg","Ter","Qua","Qui","Sex","Sáb")) | H6: =IF(OR(A6="",C6="",F6=""),0,((F6-C6+IF(F6<C6,1,0))-IF(OR(D6="",E6=""),0,E6-D6))*24) | I6: =IF(A6="",0,IF(OR(G6="Feriado",G6="Folga",G6="Atestado"),0,IF(G6="Falta",Config!$B$6*24,IF(OR(C6="",F6=""),0,IF(WEEKDAY(A6)=1,0,IF(WEEKDAY(A6)=7,IF(Config!$B$7="Sim",Config!$B$8*24,0),Config!$B$6*24)))))) | J6: =H6-I6 | K6: =MAX(0,J6) | L6: =MAX(0,-J6)
A7: =IF(MONTH(Config!$B$5+3)=MONTH(Config!$B$5),Config!$B$5+3,"") | B7: =IF(A7="","",CHOOSE(WEEKDAY(A7),"Dom","Seg","Ter","Qua","Qui","Sex","Sáb")) | H7: =IF(OR(A7="",C7="",F7=""),0,((F7-C7+IF(F7<C7,1,0))-IF(OR(D7="",E7=""),0,E7-D7))*24) | I7: =IF(A7="",0,IF(OR(G7="Feriado",G7="Folga",G7="Atestado"),0,IF(G7="Falta",Config!$B$6*24,IF(OR(C7="",F7=""),0,IF(WEEKDAY(A7)=1,0,IF(WEEKDAY(A7)=7,IF(Config!$B$7="Sim",Config!$B$8*24,0),Config!$B$6*24)))))) | J7: =H7-I7 | K7: =MAX(0,J7) | L7: =MAX(0,-J7)
A8: =IF(MONTH(Config!$B$5+4)=MONTH(Config!$B$5),Config!$B$5+4,"") | B8: =IF(A8="","",CHOOSE(WEEKDAY(A8),"Dom","Seg","Ter","Qua","Qui","Sex","Sáb")) | H8: =IF(OR(A8="",C8="",F8=""),0,((F8-C8+IF(F8<C8,1,0))-IF(OR(D8="",E8=""),0,E8-D8))*24) | I8: =IF(A8="",0,IF(OR(G8="Feriado",G8="Folga",G8="Atestado"),0,IF(G8="Falta",Config!$B$6*24,IF(OR(C8="",F8=""),0,IF(WEEKDAY(A8)=1,0,IF(WEEKDAY(A8)=7,IF(Config!$B$7="Sim",Config!$B$8*24,0),Config!$B$6*24)))))) | J8: =H8-I8 | K8: =MAX(0,J8) | L8: =MAX(0,-J8)
A9: =IF(MONTH(Config!$B$5+5)=MONTH(Config!$B$5),Config!$B$5+5,"") | B9: =IF(A9="","",CHOOSE(WEEKDAY(A9),"Dom","Seg","Ter","Qua","Qui","Sex","Sáb")) | H9: =IF(OR(A9="",C9="",F9=""),0,((F9-C9+IF(F9<C9,1,0))-IF(OR(D9="",E9=""),0,E9-D9))*24) | I9: =IF(A9="",0,IF(OR(G9="Feriado",G9="Folga",G9="Atestado"),0,IF(G9="Falta",Config!$B$6*24,IF(OR(C9="",F9=""),0,IF(WEEKDAY(A9)=1,0,IF(WEEKDAY(A9)=7,IF(Config!$B$7="Sim",Config!$B$8*24,0),Config!$B$6*24)))))) | J9: =H9-I9 | K9: =MAX(0,J9) | L9: =MAX(0,-J9)
A10: =IF(MONTH(Config!$B$5+6)=MONTH(Config!$B$5),Config!$B$5+6,"") | B10: =IF(A10="","",CHOOSE(WEEKDAY(A10),"Dom","Seg","Ter","Qua","Qui","Sex","Sáb")) | H10: =IF(OR(A10="",C10="",F10=""),0,((F10-C10+IF(F10<C10,1,0))-IF(OR(D10="",E10=""),0,E10-D10))*24) | I10: =IF(A10="",0,IF(OR(G10="Feriado",G10="Folga",G10="Atestado"),0,IF(G10="Falta",Config!$B$6*24,IF(OR(C10="",F10=""),0,IF(WEEKDAY(A10)=1,0,IF(WEEKDAY(A10)=7,IF(Config!$B$7="Sim",Config!$B$8*24,0),Config!$B$6*24)))))) | J10: =H10-I10 | K10: =MAX(0,J10) | L10: =MAX(0,-J10)
A11: =IF(MONTH(Config!$B$5+7)=MONTH(Config!$B$5),Config!$B$5+7,"") | B11: =IF(A11="","",CHOOSE(WEEKDAY(A11),"Dom","Seg","Ter","Qua","Qui","Sex","Sáb")) | H11: =IF(OR(A11="",C11="",F11=""),0,((F11-C11+IF(F11<C11,1,0))-IF(OR(D11="",E11=""),0,E11-D11))*24) | I11: =IF(A11="",0,IF(OR(G11="Feriado",G11="Folga",G11="Atestado"),0,IF(G11="Falta",Config!$B$6*24,IF(OR(C11="",F11=""),0,IF(WEEKDAY(A11)=1,0,IF(WEEKDAY(A11)=7,IF(Config!$B$7="Sim",Config!$B$8*24,0),Config!$B$6*24)))))) | J11: =H11-I11 | K11: =MAX(0,J11) | L11: =MAX(0,-J11)
A12: =IF(MONTH(Config!$B$5+8)=MONTH(Config!$B$5),Config!$B$5+8,"") | B12: =IF(A12="","",CHOOSE(WEEKDAY(A12),"Dom","Seg","Ter","Qua","Qui","Sex","Sáb")) | H12: =IF(OR(A12="",C12="",F12=""),0,((F12-C12+IF(F12<C12,1,0))-IF(OR(D12="",E12=""),0,E12-D12))*24) | I12: =IF(A12="",0,IF(OR(G12="Feriado",G12="Folga",G12="Atestado"),0,IF(G12="Falta",Config!$B$6*24,IF(OR(C12="",F12=""),0,IF(WEEKDAY(A12)=1,0,IF(WEEKDAY(A12)=7,IF(Config!$B$7="Sim",Config!$B$8*24,0),Config!$B$6*24)))))) | J12: =H12-I12 | K12: =MAX(0,J12) | L12: =MAX(0,-J12)
A13: =IF(MONTH(Config!$B$5+9)=MONTH(Config!$B$5),Config!$B$5+9,"") | B13: =IF(A13="","",CHOOSE(WEEKDAY(A13),"Dom","Seg","Ter","Qua","Qui","Sex","Sáb")) | H13: =IF(OR(A13="",C13="",F13=""),0,((F13-C13+IF(F13<C13,1,0))-IF(OR(D13="",E13=""),0,E13-D13))*24) | I13: =IF(A13="",0,IF(OR(G13="Feriado",G13="Folga",G13="Atestado"),0,IF(G13="Falta",Config!$B$6*24,IF(OR(C13="",F13=""),0,IF(WEEKDAY(A13)=1,0,IF(WEEKDAY(A13)=7,IF(Config!$B$7="Sim",Config!$B$8*24,0),Config!$B$6*24)))))) | J13: =H13-I13 | K13: =MAX(0,J13) | L13: =MAX(0,-J13)
A14: =IF(MONTH(Config!$B$5+10)=MONTH(Config!$B$5),Config!$B$5+10,"") | B14: =IF(A14="","",CHOOSE(WEEKDAY(A14),"Dom","Seg","Ter","Qua","Qui","Sex","Sáb")) | H14: =IF(OR(A14="",C14="",F14=""),0,((F14-C14+IF(F14<C14,1,0))-IF(OR(D14="",E14=""),0,E14-D14))*24) | I14: =IF(A14="",0,IF(OR(G14="Feriado",G14="Folga",G14="Atestado"),0,IF(G14="Falta",Config!$B$6*24,IF(OR(C14="",F14=""),0,IF(WEEKDAY(A14)=1,0,IF(WEEKDAY(A14)=7,IF(Config!$B$7="Sim",Config!$B$8*24,0),Config!$B$6*24)))))) | J14: =H14-I14 | K14: =MAX(0,J14) | L14: =MAX(0,-J14)
A15: =IF(MONTH(Config!$B$5+11)=MONTH(Config!$B$5),Config!$B$5+11,"") | B15: =IF(A15="","",CHOOSE(WEEKDAY(A15),"Dom","Seg","Ter","Qua","Qui","Sex","Sáb")) | H15: =IF(OR(A15="",C15="",F15=""),0,((F15-C15+IF(F15<C15,1,0))-IF(OR(D15="",E15=""),0,E15-D15))*24) | I15: =IF(A15="",0,IF(OR(G15="Feriado",G15="Folga",G15="Atestado"),0,IF(G15="Falta",Config!$B$6*24,IF(OR(C15="",F15=""),0,IF(WEEKDAY(A15)=1,0,IF(WEEKDAY(A15)=7,IF(Config!$B$7="Sim",Config!$B$8*24,0),Config!$B$6*24)))))) | J15: =H15-I15 | K15: =MAX(0,J15) | L15: =MAX(0,-J15)
A16: =IF(MONTH(Config!$B$5+12)=MONTH(Config!$B$5),Config!$B$5+12,"") | B16: =IF(A16="","",CHOOSE(WEEKDAY(A16),"Dom","Seg","Ter","Qua","Qui","Sex","Sáb")) | H16: =IF(OR(A16="",C16="",F16=""),0,((F16-C16+IF(F16<C16,1,0))-IF(OR(D16="",E16=""),0,E16-D16))*24) | I16: =IF(A16="",0,IF(OR(G16="Feriado",G16="Folga",G16="Atestado"),0,IF(G16="Falta",Config!$B$6*24,IF(OR(C16="",F16=""),0,IF(WEEKDAY(A16)=1,0,IF(WEEKDAY(A16)=7,IF(Config!$B$7="Sim",Config!$B$8*24,0),Config!$B$6*24)))))) | J16: =H16-I16 | K16: =MAX(0,J16) | L16: =MAX(0,-J16)
A17: =IF(MONTH(Config!$B$5+13)=MONTH(Config!$B$5),Config!$B$5+13,"") | B17: =IF(A17="","",CHOOSE(WEEKDAY(A17),"Dom","Seg","Ter","Qua","Qui","Sex","Sáb")) | H17: =IF(OR(A17="",C17="",F17=""),0,((F17-C17+IF(F17<C17,1,0))-IF(OR(D17="",E17=""),0,E17-D17))*24) | I17: =IF(A17="",0,IF(OR(G17="Feriado",G17="Folga",G17="Atestado"),0,IF(G17="Falta",Config!$B$6*24,IF(OR(C17="",F17=""),0,IF(WEEKDAY(A17)=1,0,IF(WEEKDAY(A17)=7,IF(Config!$B$7="Sim",Config!$B$8*24,0),Config!$B$6*24)))))) | J17: =H17-I17 | K17: =MAX(0,J17) | L17: =MAX(0,-J17)
A18: =IF(MONTH(Config!$B$5+14)=MONTH(Config!$B$5),Config!$B$5+14,"") | B18: =IF(A18="","",CHOOSE(WEEKDAY(A18),"Dom","Seg","Ter","Qua","Qui","Sex","Sáb")) | H18: =IF(OR(A18="",C18="",F18=""),0,((F18-C18+IF(F18<C18,1,0))-IF(OR(D18="",E18=""),0,E18-D18))*24) | I18: =IF(A18="",0,IF(OR(G18="Feriado",G18="Folga",G18="Atestado"),0,IF(G18="Falta",Config!$B$6*24,IF(OR(C18="",F18=""),0,IF(WEEKDAY(A18)=1,0,IF(WEEKDAY(A18)=7,IF(Config!$B$7="Sim",Config!$B$8*24,0),Config!$B$6*24)))))) | J18: =H18-I18 | K18: =MAX(0,J18) | L18: =MAX(0,-J18)
A19: =IF(MONTH(Config!$B$5+15)=MONTH(Config!$B$5),Config!$B$5+15,"") | B19: =IF(A19="","",CHOOSE(WEEKDAY(A19),"Dom","Seg","Ter","Qua","Qui","Sex","Sáb")) | H19: =IF(OR(A19="",C19="",F19=""),0,((F19-C19+IF(F19<C19,1,0))-IF(OR(D19="",E19=""),0,E19-D19))*24) | I19: =IF(A19="",0,IF(OR(G19="Feriado",G19="Folga",G19="Atestado"),0,IF(G19="Falta",Config!$B$6*24,IF(OR(C19="",F19=""),0,IF(WEEKDAY(A19)=1,0,IF(WEEKDAY(A19)=7,IF(Config!$B$7="Sim",Config!$B$8*24,0),Config!$B$6*24)))))) | J19: =H19-I19 | K19: =MAX(0,J19) | L19: =MAX(0,-J19)
A20: =IF(MONTH(Config!$B$5+16)=MONTH(Config!$B$5),Config!$B$5+16,"") | B20: =IF(A20="","",CHOOSE(WEEKDAY(A20),"Dom","Seg","Ter","Qua","Qui","Sex","Sáb")) | H20: =IF(OR(A20="",C20="",F20=""),0,((F20-C20+IF(F20<C20,1,0))-IF(OR(D20="",E20=""),0,E20-D20))*24) | I20: =IF(A20="",0,IF(OR(G20="Feriado",G20="Folga",G20="Atestado"),0,IF(G20="Falta",Config!$B$6*24,IF(OR(C20="",F20=""),0,IF(WEEKDAY(A20)=1,0,IF(WEEKDAY(A20)=7,IF(Config!$B$7="Sim",Config!$B$8*24,0),Config!$B$6*24)))))) | J20: =H20-I20 | K20: =MAX(0,J20) | L20: =MAX(0,-J20)
A21: =IF(MONTH(Config!$B$5+17)=MONTH(Config!$B$5),Config!$B$5+17,"") | B21: =IF(A21="","",CHOOSE(WEEKDAY(A21),"Dom","Seg","Ter","Qua","Qui","Sex","Sáb")) | H21: =IF(OR(A21="",C21="",F21=""),0,((F21-C21+IF(F21<C21,1,0))-IF(OR(D21="",E21=""),0,E21-D21))*24) | I21: =IF(A21="",0,IF(OR(G21="Feriado",G21="Folga",G21="Atestado"),0,IF(G21="Falta",Config!$B$6*24,IF(OR(C21="",F21=""),0,IF(WEEKDAY(A21)=1,0,IF(WEEKDAY(A21)=7,IF(Config!$B$7="Sim",Config!$B$8*24,0),Config!$B$6*24)))))) | J21: =H21-I21 | K21: =MAX(0,J21) | L21: =MAX(0,-J21)
A22: =IF(MONTH(Config!$B$5+18)=MONTH(Config!$B$5),Config!$B$5+18,"") | B22: =IF(A22="","",CHOOSE(WEEKDAY(A22),"Dom","Seg","Ter","Qua","Qui","Sex","Sáb")) | H22: =IF(OR(A22="",C22="",F22=""),0,((F22-C22+IF(F22<C22,1,0))-IF(OR(D22="",E22=""),0,E22-D22))*24) | I22: =IF(A22="",0,IF(OR(G22="Feriado",G22="Folga",G22="Atestado"),0,IF(G22="Falta",Config!$B$6*24,IF(OR(C22="",F22=""),0,IF(WEEKDAY(A22)=1,0,IF(WEEKDAY(A22)=7,IF(Config!$B$7="Sim",Config!$B$8*24,0),Config!$B$6*24)))))) | J22: =H22-I22 | K22: =MAX(0,J22) | L22: =MAX(0,-J22)
A23: =IF(MONTH(Config!$B$5+19)=MONTH(Config!$B$5),Config!$B$5+19,"") | B23: =IF(A23="","",CHOOSE(WEEKDAY(A23),"Dom","Seg","Ter","Qua","Qui","Sex","Sáb")) | H23: =IF(OR(A23="",C23="",F23=""),0,((F23-C23+IF(F23<C23,1,0))-IF(OR(D23="",E23=""),0,E23-D23))*24) | I23: =IF(A23="",0,IF(OR(G23="Feriado",G23="Folga",G23="Atestado"),0,IF(G23="Falta",Config!$B$6*24,IF(OR(C23="",F23=""),0,IF(WEEKDAY(A23)=1,0,IF(WEEKDAY(A23)=7,IF(Config!$B$7="Sim",Config!$B$8*24,0),Config!$B$6*24)))))) | J23: =H23-I23 | K23: =MAX(0,J23) | L23: =MAX(0,-J23)
A24: =IF(MONTH(Config!$B$5+20)=MONTH(Config!$B$5),Config!$B$5+20,"") | B24: =IF(A24="","",CHOOSE(WEEKDAY(A24),"Dom","Seg","Ter","Qua","Qui","Sex","Sáb")) | H24: =IF(OR(A24="",C24="",F24=""),0,((F24-C24+IF(F24<C24,1,0))-IF(OR(D24="",E24=""),0,E24-D24))*24) | I24: =IF(A24="",0,IF(OR(G24="Feriado",G24="Folga",G24="Atestado"),0,IF(G24="Falta",Config!$B$6*24,IF(OR(C24="",F24=""),0,IF(WEEKDAY(A24)=1,0,IF(WEEKDAY(A24)=7,IF(Config!$B$7="Sim",Config!$B$8*24,0),Config!$B$6*24)))))) | J24: =H24-I24 | K24: =MAX(0,J24) | L24: =MAX(0,-J24)
A25: =IF(MONTH(Config!$B$5+21)=MONTH(Config!$B$5),Config!$B$5+21,"") | B25: =IF(A25="","",CHOOSE(WEEKDAY(A25),"Dom","Seg","Ter","Qua","Qui","Sex","Sáb")) | H25: =IF(OR(A25="",C25="",F25=""),0,((F25-C25+IF(F25<C25,1,0))-IF(OR(D25="",E25=""),0,E25-D25))*24) | I25: =IF(A25="",0,IF(OR(G25="Feriado",G25="Folga",G25="Atestado"),0,IF(G25="Falta",Config!$B$6*24,IF(OR(C25="",F25=""),0,IF(WEEKDAY(A25)=1,0,IF(WEEKDAY(A25)=7,IF(Config!$B$7="Sim",Config!$B$8*24,0),Config!$B$6*24)))))) | J25: =H25-I25 | K25: =MAX(0,J25) | L25: =MAX(0,-J25)
A26: =IF(MONTH(Config!$B$5+22)=MONTH(Config!$B$5),Config!$B$5+22,"") | B26: =IF(A26="","",CHOOSE(WEEKDAY(A26),"Dom","Seg","Ter","Qua","Qui","Sex","Sáb")) | H26: =IF(OR(A26="",C26="",F26=""),0,((F26-C26+IF(F26<C26,1,0))-IF(OR(D26="",E26=""),0,E26-D26))*24) | I26: =IF(A26="",0,IF(OR(G26="Feriado",G26="Folga",G26="Atestado"),0,IF(G26="Falta",Config!$B$6*24,IF(OR(C26="",F26=""),0,IF(WEEKDAY(A26)=1,0,IF(WEEKDAY(A26)=7,IF(Config!$B$7="Sim",Config!$B$8*24,0),Config!$B$6*24)))))) | J26: =H26-I26 | K26: =MAX(0,J26) | L26: =MAX(0,-J26)
A27: =IF(MONTH(Config!$B$5+23)=MONTH(Config!$B$5),Config!$B$5+23,"") | B27: =IF(A27="","",CHOOSE(WEEKDAY(A27),"Dom","Seg","Ter","Qua","Qui","Sex","Sáb")) | H27: =IF(OR(A27="",C27="",F27=""),0,((F27-C27+IF(F27<C27,1,0))-IF(OR(D27="",E27=""),0,E27-D27))*24) | I27: =IF(A27="",0,IF(OR(G27="Feriado",G27="Folga",G27="Atestado"),0,IF(G27="Falta",Config!$B$6*24,IF(OR(C27="",F27=""),0,IF(WEEKDAY(A27)=1,0,IF(WEEKDAY(A27)=7,IF(Config!$B$7="Sim",Config!$B$8*24,0),Config!$B$6*24)))))) | J27: =H27-I27 | K27: =MAX(0,J27) | L27: =MAX(0,-J27)
A28: =IF(MONTH(Config!$B$5+24)=MONTH(Config!$B$5),Config!$B$5+24,"") | B28: =IF(A28="","",CHOOSE(WEEKDAY(A28),"Dom","Seg","Ter","Qua","Qui","Sex","Sáb")) | H28: =IF(OR(A28="",C28="",F28=""),0,((F28-C28+IF(F28<C28,1,0))-IF(OR(D28="",E28=""),0,E28-D28))*24) | I28: =IF(A28="",0,IF(OR(G28="Feriado",G28="Folga",G28="Atestado"),0,IF(G28="Falta",Config!$B$6*24,IF(OR(C28="",F28=""),0,IF(WEEKDAY(A28)=1,0,IF(WEEKDAY(A28)=7,IF(Config!$B$7="Sim",Config!$B$8*24,0),Config!$B$6*24)))))) | J28: =H28-I28 | K28: =MAX(0,J28) | L28: =MAX(0,-J28)
A29: =IF(MONTH(Config!$B$5+25)=MONTH(Config!$B$5),Config!$B$5+25,"") | B29: =IF(A29="","",CHOOSE(WEEKDAY(A29),"Dom","Seg","Ter","Qua","Qui","Sex","Sáb")) | H29: =IF(OR(A29="",C29="",F29=""),0,((F29-C29+IF(F29<C29,1,0))-IF(OR(D29="",E29=""),0,E29-D29))*24) | I29: =IF(A29="",0,IF(OR(G29="Feriado",G29="Folga",G29="Atestado"),0,IF(G29="Falta",Config!$B$6*24,IF(OR(C29="",F29=""),0,IF(WEEKDAY(A29)=1,0,IF(WEEKDAY(A29)=7,IF(Config!$B$7="Sim",Config!$B$8*24,0),Config!$B$6*24)))))) | J29: =H29-I29 | K29: =MAX(0,J29) | L29: =MAX(0,-J29)
A30: =IF(MONTH(Config!$B$5+26)=MONTH(Config!$B$5),Config!$B$5+26,"") | B30: =IF(A30="","",CHOOSE(WEEKDAY(A30),"Dom","Seg","Ter","Qua","Qui","Sex","Sáb")) | H30: =IF(OR(A30="",C30="",F30=""),0,((F30-C30+IF(F30<C30,1,0))-IF(OR(D30="",E30=""),0,E30-D30))*24) | I30: =IF(A30="",0,IF(OR(G30="Feriado",G30="Folga",G30="Atestado"),0,IF(G30="Falta",Config!$B$6*24,IF(OR(C30="",F30=""),0,IF(WEEKDAY(A30)=1,0,IF(WEEKDAY(A30)=7,IF(Config!$B$7="Sim",Config!$B$8*24,0),Config!$B$6*24)))))) | J30: =H30-I30 | K30: =MAX(0,J30) | L30: =MAX(0,-J30)
A31: =IF(MONTH(Config!$B$5+27)=MONTH(Config!$B$5),Config!$B$5+27,"") | B31: =IF(A31="","",CHOOSE(WEEKDAY(A31),"Dom","Seg","Ter","Qua","Qui","Sex","Sáb")) | H31: =IF(OR(A31="",C31="",F31=""),0,((F31-C31+IF(F31<C31,1,0))-IF(OR(D31="",E31=""),0,E31-D31))*24) | I31: =IF(A31="",0,IF(OR(G31="Feriado",G31="Folga",G31="Atestado"),0,IF(G31="Falta",Config!$B$6*24,IF(OR(C31="",F31=""),0,IF(WEEKDAY(A31)=1,0,IF(WEEKDAY(A31)=7,IF(Config!$B$7="Sim",Config!$B$8*24,0),Config!$B$6*24)))))) | J31: =H31-I31 | K31: =MAX(0,J31) | L31: =MAX(0,-J31)
A32: =IF(MONTH(Config!$B$5+28)=MONTH(Config!$B$5),Config!$B$5+28,"") | B32: =IF(A32="","",CHOOSE(WEEKDAY(A32),"Dom","Seg","Ter","Qua","Qui","Sex","Sáb")) | H32: =IF(OR(A32="",C32="",F32=""),0,((F32-C32+IF(F32<C32,1,0))-IF(OR(D32="",E32=""),0,E32-D32))*24) | I32: =IF(A32="",0,IF(OR(G32="Feriado",G32="Folga",G32="Atestado"),0,IF(G32="Falta",Config!$B$6*24,IF(OR(C32="",F32=""),0,IF(WEEKDAY(A32)=1,0,IF(WEEKDAY(A32)=7,IF(Config!$B$7="Sim",Config!$B$8*24,0),Config!$B$6*24)))))) | J32: =H32-I32 | K32: =MAX(0,J32) | L32: =MAX(0,-J32)
A33: =IF(MONTH(Config!$B$5+29)=MONTH(Config!$B$5),Config!$B$5+29,"") | B33: =IF(A33="","",CHOOSE(WEEKDAY(A33),"Dom","Seg","Ter","Qua","Qui","Sex","Sáb")) | H33: =IF(OR(A33="",C33="",F33=""),0,((F33-C33+IF(F33<C33,1,0))-IF(OR(D33="",E33=""),0,E33-D33))*24) | I33: =IF(A33="",0,IF(OR(G33="Feriado",G33="Folga",G33="Atestado"),0,IF(G33="Falta",Config!$B$6*24,IF(OR(C33="",F33=""),0,IF(WEEKDAY(A33)=1,0,IF(WEEKDAY(A33)=7,IF(Config!$B$7="Sim",Config!$B$8*24,0),Config!$B$6*24)))))) | J33: =H33-I33 | K33: =MAX(0,J33) | L33: =MAX(0,-J33)
A34: =IF(MONTH(Config!$B$5+30)=MONTH(Config!$B$5),Config!$B$5+30,"") | B34: =IF(A34="","",CHOOSE(WEEKDAY(A34),"Dom","Seg","Ter","Qua","Qui","Sex","Sáb")) | H34: =IF(OR(A34="",C34="",F34=""),0,((F34-C34+IF(F34<C34,1,0))-IF(OR(D34="",E34=""),0,E34-D34))*24) | I34: =IF(A34="",0,IF(OR(G34="Feriado",G34="Folga",G34="Atestado"),0,IF(G34="Falta",Config!$B$6*24,IF(OR(C34="",F34=""),0,IF(WEEKDAY(A34)=1,0,IF(WEEKDAY(A34)=7,IF(Config!$B$7="Sim",Config!$B$8*24,0),Config!$B$6*24)))))) | J34: =H34-I34 | K34: =MAX(0,J34) | L34: =MAX(0,-J34)
A35: Total do mês | H35: =SUM(H4:H34) | I35: =SUM(I4:I34) | J35: =SUM(J4:J34) | K35: =SUM(K4:K34) | L35: =SUM(L4:L34)

Sheet Resumo
A1: Resumo do mês e banco de horas
A3: Dias com registro | B3: =COUNTIF(Ponto!H4:H34,">0")
A4: Horas trabalhadas | B4: =Ponto!H35
A5: Horas previstas | B5: =Ponto!I35
A6: Horas extras | B6: =Ponto!K35
A7: Atrasos e saídas antecipadas | B7: =Ponto!L35
A8: Faltas (dias) | B8: =COUNTIF(Ponto!G4:G34,"Falta")
A9: Atestados (dias) | B9: =COUNTIF(Ponto!G4:G34,"Atestado")
A10: Saldo do mês | B10: =Ponto!J35
A11: Saldo anterior | B11: =Config!B9
A12: BANCO DE HORAS ACUMULADO | B12: =B10+B11
A13: Banco em horas e minutos | B13: =IF(B12<0,"-","")&INT(ABS(B12))&"h"&TEXT(ROUND(MOD(ABS(B12),1)*60,0),"00")
